BEGIN:VCALENDAR
VERSION:2.0
PRODID:-//Stanton Tourism - ECPv6.15.13.1//NONSGML v1.0//EN
CALSCALE:GREGORIAN
METHOD:PUBLISH
X-ORIGINAL-URL:https://explorestanton.com
X-WR-CALDESC:Events for Stanton Tourism
REFRESH-INTERVAL;VALUE=DURATION:PT1H
X-Robots-Tag:noindex
X-PUBLISHED-TTL:PT1H
BEGIN:VTIMEZONE
TZID:America/Kentucky/Louisville
BEGIN:DAYLIGHT
TZOFFSETFROM:-0500
TZOFFSETTO:-0400
TZNAME:EDT
DTSTART:20240310T070000
END:DAYLIGHT
BEGIN:STANDARD
TZOFFSETFROM:-0400
TZOFFSETTO:-0500
TZNAME:EST
DTSTART:20241103T060000
END:STANDARD
BEGIN:DAYLIGHT
TZOFFSETFROM:-0500
TZOFFSETTO:-0400
TZNAME:EDT
DTSTART:20250309T070000
END:DAYLIGHT
BEGIN:STANDARD
TZOFFSETFROM:-0400
TZOFFSETTO:-0500
TZNAME:EST
DTSTART:20251102T060000
END:STANDARD
BEGIN:DAYLIGHT
TZOFFSETFROM:-0500
TZOFFSETTO:-0400
TZNAME:EDT
DTSTART:20260308T070000
END:DAYLIGHT
BEGIN:STANDARD
TZOFFSETFROM:-0400
TZOFFSETTO:-0500
TZNAME:EST
DTSTART:20261101T060000
END:STANDARD
BEGIN:DAYLIGHT
TZOFFSETFROM:-0500
TZOFFSETTO:-0400
TZNAME:EDT
DTSTART:20270314T070000
END:DAYLIGHT
BEGIN:STANDARD
TZOFFSETFROM:-0400
TZOFFSETTO:-0500
TZNAME:EST
DTSTART:20271107T060000
END:STANDARD
END:VTIMEZONE
BEGIN:VEVENT
DTSTART;TZID=America/Kentucky/Louisville:20251204T180000
DTEND;TZID=America/Kentucky/Louisville:20251204T210000
DTSTAMP:20260421T212032
CREATED:20251112T210621Z
LAST-MODIFIED:20251112T210621Z
UID:10001200-1764871200-1764882000@explorestanton.com
SUMMARY:4th Annual Jingle and Mingle Around Stanton
DESCRIPTION:The 4th Annual Jingle & Mingle Around Stanton is officially set for Thursday\, December 4th from 6-9pm!\n\n\nMark your calendars and get your favorite pajamas ready for a shopping night on the town!\n\n\nIf your business would like to participate in Jingle and Mingle (and we really hope you do!) give us a call to register!\n\n\n(606)663-2002
URL:https://explorestanton.com/event/4th-annual-jingle-and-mingle-around-stanton/
LOCATION:Downtown Stanton\, 128 West College Ave\, Stanton\, KY\, 40380\, United States
ATTACH;FMTTYPE=image/jpeg:https://explorestanton.com/wp-content/uploads/2025/11/Jingle-Mingle-2025.jpg
END:VEVENT
BEGIN:VEVENT
DTSTART;TZID=America/Kentucky/Louisville:20251206T190000
DTEND;TZID=America/Kentucky/Louisville:20251206T200000
DTSTAMP:20260421T212032
CREATED:20251126T183148Z
LAST-MODIFIED:20251204T064519Z
UID:10001202-1765047600-1765051200@explorestanton.com
SUMMARY:Powell County 2025 Christmas Parade
DESCRIPTION: 2025 Kiwanis Christmas Parade! Come line the streets of Stanton and join us for a festive night to kick off the holiday season! Parade will begin at 7:00 PM leaving from Elkins Street and ending at the Stanton City Park!Theme: Reindeer Games Also\, make sure you are making plans to join us at the Stanton City Park after the parade!!First 100 Kids get to Ice Skate FREE!!!!Pictures with Santa & Mrs. Claus!We are looking forward to a fun filled night! So start now getting your truck\, trailer\, Jeep\, horses\, or side by sides decorated to participate in the parade!!Best Overall Cash Prize!!!Only a few simple rules but head on over to www.pocokiwanis.com for additional details!!
URL:https://explorestanton.com/event/powell-county-2025-christmas-parade/
LOCATION:Downtown Stanton\, 128 West College Ave\, Stanton\, KY\, 40380\, United States
ATTACH;FMTTYPE=image/jpeg:https://explorestanton.com/wp-content/uploads/2025/11/kiwanis-xmas-2025.jpg
END:VEVENT
BEGIN:VEVENT
DTSTART;TZID=America/Kentucky/Louisville:20251213T150000
DTEND;TZID=America/Kentucky/Louisville:20251213T180000
DTSTAMP:20260421T212032
CREATED:20251210T143222Z
LAST-MODIFIED:20251210T143223Z
UID:10001203-1765638000-1765648800@explorestanton.com
SUMMARY:Ugly Christmas Sweater Party
DESCRIPTION:UGLY SWEATER CHRISTMAS PARTY AT Mushroom Grove Shopping Village at the Red River Gorge! This Saturday the 13th from 3pm-6pm! Lots of specials and deals\, plus live music\, a live nativity scene\, and maybe even a bigfoot sighting! 
URL:https://explorestanton.com/event/ugly-christmas-sweater-party/
LOCATION:Mushroom Grove Shopping Center\, 9901 Campton Rd\, Stanton\, KY\, 40380\, United States
ATTACH;FMTTYPE=image/jpeg:https://explorestanton.com/wp-content/uploads/2025/12/Ugly-Xnas-Sweater-2025.jpg
END:VEVENT
BEGIN:VEVENT
DTSTART;TZID=America/Kentucky/Louisville:20260530T100000
DTEND;TZID=America/Kentucky/Louisville:20260530T200000
DTSTAMP:20260421T212032
CREATED:20250808T204004Z
LAST-MODIFIED:20251208T114349Z
UID:10000004-1780135200-1780171200@explorestanton.com
SUMMARY:Red River Gorge Bigfoot Fest
DESCRIPTION:Mark your calendars for May 30\, 2026 because the Red River Gorge Bigfoot Festival is coming back—and it’s going to be BIGGER\, LOUDER\, and MORE LEGENDARY than ever before! \n\n\nThis year’s festival was WILD… but next year? We’re taking it to a whole new level! \n\n\nStay tuned—EPIC announcements\, guest speakers\, vendor info and surprises are coming your way soon!
URL:https://explorestanton.com/event/red-river-gorge-bigfoot-fest/
LOCATION:KY
END:VEVENT
END:VCALENDAR