BEGIN:VCALENDAR
VERSION:2.0
PRODID:-//Stanton Tourism - ECPv6.15.13.1//NONSGML v1.0//EN
CALSCALE:GREGORIAN
METHOD:PUBLISH
X-ORIGINAL-URL:https://explorestanton.com
X-WR-CALDESC:Events for Stanton Tourism
REFRESH-INTERVAL;VALUE=DURATION:PT1H
X-Robots-Tag:noindex
X-PUBLISHED-TTL:PT1H
BEGIN:VTIMEZONE
TZID:America/Kentucky/Louisville
BEGIN:DAYLIGHT
TZOFFSETFROM:-0500
TZOFFSETTO:-0400
TZNAME:EDT
DTSTART:20240310T070000
END:DAYLIGHT
BEGIN:STANDARD
TZOFFSETFROM:-0400
TZOFFSETTO:-0500
TZNAME:EST
DTSTART:20241103T060000
END:STANDARD
BEGIN:DAYLIGHT
TZOFFSETFROM:-0500
TZOFFSETTO:-0400
TZNAME:EDT
DTSTART:20250309T070000
END:DAYLIGHT
BEGIN:STANDARD
TZOFFSETFROM:-0400
TZOFFSETTO:-0500
TZNAME:EST
DTSTART:20251102T060000
END:STANDARD
BEGIN:DAYLIGHT
TZOFFSETFROM:-0500
TZOFFSETTO:-0400
TZNAME:EDT
DTSTART:20260308T070000
END:DAYLIGHT
BEGIN:STANDARD
TZOFFSETFROM:-0400
TZOFFSETTO:-0500
TZNAME:EST
DTSTART:20261101T060000
END:STANDARD
END:VTIMEZONE
BEGIN:VEVENT
DTSTART;TZID=America/Kentucky/Louisville:20250908T180000
DTEND;TZID=America/Kentucky/Louisville:20250908T220000
DTSTAMP:20260422T141107
CREATED:20250903T172734Z
LAST-MODIFIED:20250908T183755Z
UID:10000006-1757354400-1757368800@explorestanton.com
SUMMARY:Powell County Lions Club Fair
DESCRIPTION:It’s that magical time of year again when fried Oreos count as a food group\, and your cousin swears she’s gonna win the goat show this year for real. \n\n\nGrab your fair booklet\, folks\, it’s packed tighter than a clown car with all the events\, shows\, and entertainment you don’t want to miss.\n\n\n Rides.\n Exhibit Hall\n Games.\n Food that your doctor definitely doesn’t approve of.\n\n\nThis is Powell County’s Olympics where the only gold medals are funnel cakes\, and the torch we’re passing around is probably a corndog. \n\n\n\nCheck out the fair booklet below & get ready… LET THE GAMES BEGIN! \n\n\nhttps://acrobat.adobe.com/…/urn:aaid:sc:US:f1ef9226…
URL:https://explorestanton.com/event/powell-county-lions-club-fair-2/
LOCATION:Lion’s Club Park\, 600 N. Bend Rd.\, Stanton\, KY\, 40380\, United States
ATTACH;FMTTYPE=image/jpeg:https://explorestanton.com/wp-content/uploads/2025/08/Merry-Go-Round-pic-scaled.jpg
END:VEVENT
BEGIN:VEVENT
DTSTART;TZID=America/Kentucky/Louisville:20250909T180000
DTEND;TZID=America/Kentucky/Louisville:20250909T220000
DTSTAMP:20260422T141107
CREATED:20250908T184037Z
LAST-MODIFIED:20250908T184037Z
UID:10000380-1757440800-1757455200@explorestanton.com
SUMMARY:Powell County Lions Club Fair
DESCRIPTION:It’s that magical time of year again when fried Oreos count as a food group\, and your cousin swears she’s gonna win the goat show this year for real. \n\n\nGrab your fair booklet\, folks\, it’s packed tighter than a clown car with all the events\, shows\, and entertainment you don’t want to miss.\n\n\n Rides.\n Exhibit Hall\n Games.\n Food that your doctor definitely doesn’t approve of.\n\n\nThis is Powell County’s Olympics where the only gold medals are funnel cakes\, and the torch we’re passing around is probably a corndog. \n\n\n\nCheck out the fair booklet below & get ready… LET THE GAMES BEGIN! \n\n\nhttps://acrobat.adobe.com/…/urn:aaid:sc:US:f1ef9226…
URL:https://explorestanton.com/event/powell-county-lions-club-fair/
LOCATION:Lion’s Club Park\, 600 N. Bend Rd.\, Stanton\, KY\, 40380\, United States
ATTACH;FMTTYPE=image/jpeg:https://explorestanton.com/wp-content/uploads/2025/08/Merry-Go-Round-pic-scaled.jpg
END:VEVENT
BEGIN:VEVENT
DTSTART;TZID=America/Kentucky/Louisville:20250910T170000
DTEND;TZID=America/Kentucky/Louisville:20250910T220000
DTSTAMP:20260422T141107
CREATED:20250908T184154Z
LAST-MODIFIED:20250908T184154Z
UID:10000381-1757523600-1757541600@explorestanton.com
SUMMARY:Powell County Lions Club Fair
DESCRIPTION:It’s that magical time of year again when fried Oreos count as a food group\, and your cousin swears she’s gonna win the goat show this year for real. \n\n\nGrab your fair booklet\, folks\, it’s packed tighter than a clown car with all the events\, shows\, and entertainment you don’t want to miss.\n\n\n Rides.\n Exhibit Hall\n Games.\n Food that your doctor definitely doesn’t approve of.\n\n\nThis is Powell County’s Olympics where the only gold medals are funnel cakes\, and the torch we’re passing around is probably a corndog. \n\n\n\nCheck out the fair booklet below & get ready… LET THE GAMES BEGIN! \n\n\nhttps://acrobat.adobe.com/…/urn:aaid:sc:US:f1ef9226…
URL:https://explorestanton.com/event/powell-county-lions-club-fair-3/
LOCATION:Lion’s Club Park\, 600 N. Bend Rd.\, Stanton\, KY\, 40380\, United States
ATTACH;FMTTYPE=image/jpeg:https://explorestanton.com/wp-content/uploads/2025/08/Merry-Go-Round-pic-scaled.jpg
END:VEVENT
BEGIN:VEVENT
DTSTART;TZID=America/Kentucky/Louisville:20250911T170000
DTEND;TZID=America/Kentucky/Louisville:20250911T220000
DTSTAMP:20260422T141107
CREATED:20250908T184307Z
LAST-MODIFIED:20250908T184307Z
UID:10000382-1757610000-1757628000@explorestanton.com
SUMMARY:Powell County Lions Club Fair
DESCRIPTION:It’s that magical time of year again when fried Oreos count as a food group\, and your cousin swears she’s gonna win the goat show this year for real. \n\n\nGrab your fair booklet\, folks\, it’s packed tighter than a clown car with all the events\, shows\, and entertainment you don’t want to miss.\n\n\n Rides.\n Exhibit Hall\n Games.\n Food that your doctor definitely doesn’t approve of.\n\n\nThis is Powell County’s Olympics where the only gold medals are funnel cakes\, and the torch we’re passing around is probably a corndog. \n\n\n\nCheck out the fair booklet below & get ready… LET THE GAMES BEGIN! \n\n\nhttps://acrobat.adobe.com/…/urn:aaid:sc:US:f1ef9226…
URL:https://explorestanton.com/event/powell-county-lions-club-fair-4/
LOCATION:Lion’s Club Park\, 600 N. Bend Rd.\, Stanton\, KY\, 40380\, United States
ATTACH;FMTTYPE=image/jpeg:https://explorestanton.com/wp-content/uploads/2025/08/Merry-Go-Round-pic-scaled.jpg
END:VEVENT
BEGIN:VEVENT
DTSTART;TZID=America/Kentucky/Louisville:20250912T110000
DTEND;TZID=America/Kentucky/Louisville:20250912T220000
DTSTAMP:20260422T141107
CREATED:20250908T184445Z
LAST-MODIFIED:20250908T184445Z
UID:10000383-1757674800-1757714400@explorestanton.com
SUMMARY:Powell County Lions Club Fair
DESCRIPTION:It’s that magical time of year again when fried Oreos count as a food group\, and your cousin swears she’s gonna win the goat show this year for real. \n\n\nGrab your fair booklet\, folks\, it’s packed tighter than a clown car with all the events\, shows\, and entertainment you don’t want to miss.\n\n\n Rides.\n Exhibit Hall\n Games.\n Food that your doctor definitely doesn’t approve of.\n\n\nThis is Powell County’s Olympics where the only gold medals are funnel cakes\, and the torch we’re passing around is probably a corndog. \n\n\n\nCheck out the fair booklet below & get ready… LET THE GAMES BEGIN! \n\n\nhttps://acrobat.adobe.com/…/urn:aaid:sc:US:f1ef9226…
URL:https://explorestanton.com/event/powell-county-lions-club-fair-5/
LOCATION:Lion’s Club Park\, 600 N. Bend Rd.\, Stanton\, KY\, 40380\, United States
ATTACH;FMTTYPE=image/jpeg:https://explorestanton.com/wp-content/uploads/2025/08/Merry-Go-Round-pic-scaled.jpg
END:VEVENT
BEGIN:VEVENT
DTSTART;TZID=America/Kentucky/Louisville:20250913T170000
DTEND;TZID=America/Kentucky/Louisville:20250913T220000
DTSTAMP:20260422T141107
CREATED:20250908T184616Z
LAST-MODIFIED:20250908T184616Z
UID:10000384-1757782800-1757800800@explorestanton.com
SUMMARY:Powell County Lions Club Fair
DESCRIPTION:It’s that magical time of year again when fried Oreos count as a food group\, and your cousin swears she’s gonna win the goat show this year for real. \n\n\nGrab your fair booklet\, folks\, it’s packed tighter than a clown car with all the events\, shows\, and entertainment you don’t want to miss.\n\n\n Rides.\n Exhibit Hall\n Games.\n Food that your doctor definitely doesn’t approve of.\n\n\nThis is Powell County’s Olympics where the only gold medals are funnel cakes\, and the torch we’re passing around is probably a corndog. \n\n\n\nCheck out the fair booklet below & get ready… LET THE GAMES BEGIN! \n\n\nhttps://acrobat.adobe.com/…/urn:aaid:sc:US:f1ef9226…
URL:https://explorestanton.com/event/powell-county-lions-club-fair-6/
LOCATION:Lion’s Club Park\, 600 N. Bend Rd.\, Stanton\, KY\, 40380\, United States
ATTACH;FMTTYPE=image/jpeg:https://explorestanton.com/wp-content/uploads/2025/08/Merry-Go-Round-pic-scaled.jpg
END:VEVENT
END:VCALENDAR