BEGIN:VCALENDAR
VERSION:2.0
PRODID:-//Stanton Tourism - ECPv6.15.13.1//NONSGML v1.0//EN
CALSCALE:GREGORIAN
METHOD:PUBLISH
X-WR-CALNAME:Stanton Tourism
X-ORIGINAL-URL:https://explorestanton.com
X-WR-CALDESC:Events for Stanton Tourism
REFRESH-INTERVAL;VALUE=DURATION:PT1H
X-Robots-Tag:noindex
X-PUBLISHED-TTL:PT1H
BEGIN:VTIMEZONE
TZID:America/Kentucky/Louisville
BEGIN:DAYLIGHT
TZOFFSETFROM:-0500
TZOFFSETTO:-0400
TZNAME:EDT
DTSTART:20240310T070000
END:DAYLIGHT
BEGIN:STANDARD
TZOFFSETFROM:-0400
TZOFFSETTO:-0500
TZNAME:EST
DTSTART:20241103T060000
END:STANDARD
BEGIN:DAYLIGHT
TZOFFSETFROM:-0500
TZOFFSETTO:-0400
TZNAME:EDT
DTSTART:20250309T070000
END:DAYLIGHT
BEGIN:STANDARD
TZOFFSETFROM:-0400
TZOFFSETTO:-0500
TZNAME:EST
DTSTART:20251102T060000
END:STANDARD
BEGIN:DAYLIGHT
TZOFFSETFROM:-0500
TZOFFSETTO:-0400
TZNAME:EDT
DTSTART:20260308T070000
END:DAYLIGHT
BEGIN:STANDARD
TZOFFSETFROM:-0400
TZOFFSETTO:-0500
TZNAME:EST
DTSTART:20261101T060000
END:STANDARD
END:VTIMEZONE
BEGIN:VEVENT
DTSTART;TZID=America/Kentucky/Louisville:20251017T190000
DTEND;TZID=America/Kentucky/Louisville:20251017T220000
DTSTAMP:20260422T064457
CREATED:20251017T132235Z
LAST-MODIFIED:20251017T132235Z
UID:10001196-1760727600-1760738400@explorestanton.com
SUMMARY:Movie Night at the Drive In Diner
DESCRIPTION:
URL:https://explorestanton.com/event/movie-night-at-the-drive-in-diner/
LOCATION:The Drive-In Diner\, 1327 E. College Ave\, Stanton\, KY\, 40380
ATTACH;FMTTYPE=image/jpeg:https://explorestanton.com/wp-content/uploads/2025/10/movie-night-10-17-2025.jpg
END:VEVENT
BEGIN:VEVENT
DTSTART;TZID=America/Kentucky/Louisville:20251017T190000
DTEND;TZID=America/Kentucky/Louisville:20251017T220000
DTSTAMP:20260422T064457
CREATED:20251017T132452Z
LAST-MODIFIED:20251017T132452Z
UID:10001197-1760727600-1760738400@explorestanton.com
SUMMARY:Movie Night at the Drive In Diner
DESCRIPTION:
URL:https://explorestanton.com/event/movie-night-at-the-drive-in-diner-2/
LOCATION:The Drive-In Diner\, 1327 E. College Ave\, Stanton\, KY\, 40380
ATTACH;FMTTYPE=image/jpeg:https://explorestanton.com/wp-content/uploads/2025/10/movie-night-10-17-2025.jpg
END:VEVENT
END:VCALENDAR