BEGIN:VCALENDAR
VERSION:2.0
PRODID:-//Stanton Tourism - ECPv6.15.13.1//NONSGML v1.0//EN
CALSCALE:GREGORIAN
METHOD:PUBLISH
X-ORIGINAL-URL:https://explorestanton.com
X-WR-CALDESC:Events for Stanton Tourism
REFRESH-INTERVAL;VALUE=DURATION:PT1H
X-Robots-Tag:noindex
X-PUBLISHED-TTL:PT1H
BEGIN:VTIMEZONE
TZID:America/Kentucky/Louisville
BEGIN:DAYLIGHT
TZOFFSETFROM:-0500
TZOFFSETTO:-0400
TZNAME:EDT
DTSTART:20240310T070000
END:DAYLIGHT
BEGIN:STANDARD
TZOFFSETFROM:-0400
TZOFFSETTO:-0500
TZNAME:EST
DTSTART:20241103T060000
END:STANDARD
BEGIN:DAYLIGHT
TZOFFSETFROM:-0500
TZOFFSETTO:-0400
TZNAME:EDT
DTSTART:20250309T070000
END:DAYLIGHT
BEGIN:STANDARD
TZOFFSETFROM:-0400
TZOFFSETTO:-0500
TZNAME:EST
DTSTART:20251102T060000
END:STANDARD
BEGIN:DAYLIGHT
TZOFFSETFROM:-0500
TZOFFSETTO:-0400
TZNAME:EDT
DTSTART:20260308T070000
END:DAYLIGHT
BEGIN:STANDARD
TZOFFSETFROM:-0400
TZOFFSETTO:-0500
TZNAME:EST
DTSTART:20261101T060000
END:STANDARD
END:VTIMEZONE
BEGIN:VEVENT
DTSTART;TZID=America/Kentucky/Louisville:20251115T110000
DTEND;TZID=America/Kentucky/Louisville:20251115T190000
DTSTAMP:20260422T031932
CREATED:20251112T161015Z
LAST-MODIFIED:20251112T161015Z
UID:10001199-1763204400-1763233200@explorestanton.com
SUMMARY:Mushroom Grove Christmas Open House
DESCRIPTION:CHRISTMAS OPEN HOUSE AT Mushroom Grove Shopping Village at the Red River Gorge! This Saturday! Come hang out at the coolest new spot in town and get some Christmas shopping done and get some Christmas photos done at the same time! Christmas specials and holiday spirit galore! 
URL:https://explorestanton.com/event/mushroom-grove-christmas-open-house/
LOCATION:Mushroom Grove Shopping Center\, 9901 Campton Rd\, Stanton\, KY\, 40380\, United States
ATTACH;FMTTYPE=image/jpeg:https://explorestanton.com/wp-content/uploads/2025/11/Mushroom-Grove-Xmas-flyer.jpg
END:VEVENT
END:VCALENDAR