BEGIN:VCALENDAR
VERSION:2.0
PRODID:-//Stanton Tourism - ECPv6.15.13.1//NONSGML v1.0//EN
CALSCALE:GREGORIAN
METHOD:PUBLISH
X-ORIGINAL-URL:https://explorestanton.com
X-WR-CALDESC:Events for Stanton Tourism
REFRESH-INTERVAL;VALUE=DURATION:PT1H
X-Robots-Tag:noindex
X-PUBLISHED-TTL:PT1H
BEGIN:VTIMEZONE
TZID:America/Kentucky/Louisville
BEGIN:DAYLIGHT
TZOFFSETFROM:-0500
TZOFFSETTO:-0400
TZNAME:EDT
DTSTART:20240310T070000
END:DAYLIGHT
BEGIN:STANDARD
TZOFFSETFROM:-0400
TZOFFSETTO:-0500
TZNAME:EST
DTSTART:20241103T060000
END:STANDARD
BEGIN:DAYLIGHT
TZOFFSETFROM:-0500
TZOFFSETTO:-0400
TZNAME:EDT
DTSTART:20250309T070000
END:DAYLIGHT
BEGIN:STANDARD
TZOFFSETFROM:-0400
TZOFFSETTO:-0500
TZNAME:EST
DTSTART:20251102T060000
END:STANDARD
BEGIN:DAYLIGHT
TZOFFSETFROM:-0500
TZOFFSETTO:-0400
TZNAME:EDT
DTSTART:20260308T070000
END:DAYLIGHT
BEGIN:STANDARD
TZOFFSETFROM:-0400
TZOFFSETTO:-0500
TZNAME:EST
DTSTART:20261101T060000
END:STANDARD
END:VTIMEZONE
BEGIN:VEVENT
DTSTART;TZID=America/Kentucky/Louisville:20251206T190000
DTEND;TZID=America/Kentucky/Louisville:20251206T200000
DTSTAMP:20260423T121850
CREATED:20251126T183148Z
LAST-MODIFIED:20251204T064519Z
UID:10001202-1765047600-1765051200@explorestanton.com
SUMMARY:Powell County 2025 Christmas Parade
DESCRIPTION: 2025 Kiwanis Christmas Parade! Come line the streets of Stanton and join us for a festive night to kick off the holiday season! Parade will begin at 7:00 PM leaving from Elkins Street and ending at the Stanton City Park!Theme: Reindeer Games Also\, make sure you are making plans to join us at the Stanton City Park after the parade!!First 100 Kids get to Ice Skate FREE!!!!Pictures with Santa & Mrs. Claus!We are looking forward to a fun filled night! So start now getting your truck\, trailer\, Jeep\, horses\, or side by sides decorated to participate in the parade!!Best Overall Cash Prize!!!Only a few simple rules but head on over to www.pocokiwanis.com for additional details!!
URL:https://explorestanton.com/event/powell-county-2025-christmas-parade/
LOCATION:Downtown Stanton\, 128 West College Ave\, Stanton\, KY\, 40380\, United States
ATTACH;FMTTYPE=image/jpeg:https://explorestanton.com/wp-content/uploads/2025/11/kiwanis-xmas-2025.jpg
END:VEVENT
END:VCALENDAR