BEGIN:VCALENDAR
VERSION:2.0
PRODID:-//Stanton Tourism - ECPv6.15.13.1//NONSGML v1.0//EN
CALSCALE:GREGORIAN
METHOD:PUBLISH
X-ORIGINAL-URL:https://explorestanton.com
X-WR-CALDESC:Events for Stanton Tourism
REFRESH-INTERVAL;VALUE=DURATION:PT1H
X-Robots-Tag:noindex
X-PUBLISHED-TTL:PT1H
BEGIN:VTIMEZONE
TZID:America/Kentucky/Louisville
BEGIN:DAYLIGHT
TZOFFSETFROM:-0500
TZOFFSETTO:-0400
TZNAME:EDT
DTSTART:20240310T070000
END:DAYLIGHT
BEGIN:STANDARD
TZOFFSETFROM:-0400
TZOFFSETTO:-0500
TZNAME:EST
DTSTART:20241103T060000
END:STANDARD
BEGIN:DAYLIGHT
TZOFFSETFROM:-0500
TZOFFSETTO:-0400
TZNAME:EDT
DTSTART:20250309T070000
END:DAYLIGHT
BEGIN:STANDARD
TZOFFSETFROM:-0400
TZOFFSETTO:-0500
TZNAME:EST
DTSTART:20251102T060000
END:STANDARD
BEGIN:DAYLIGHT
TZOFFSETFROM:-0500
TZOFFSETTO:-0400
TZNAME:EDT
DTSTART:20260308T070000
END:DAYLIGHT
BEGIN:STANDARD
TZOFFSETFROM:-0400
TZOFFSETTO:-0500
TZNAME:EST
DTSTART:20261101T060000
END:STANDARD
END:VTIMEZONE
BEGIN:VEVENT
DTSTART;VALUE=DATE:20251012
DTEND;VALUE=DATE:20251013
DTSTAMP:20260422T064708
CREATED:20250930T142629Z
LAST-MODIFIED:20250930T142629Z
UID:10000405-1760227200-1760313599@explorestanton.com
SUMMARY:Rocktoberfest 2025
DESCRIPTION:It’s that time of year again… ROCKTOBERFEST SEASON!! \n\n\n We are so psyched to announce that Rocktoberfest 2025 registration is officially LIVE!\n\n\n https://rrgcc.org/rocktoberfest/ \n\n\nSnag our early bird discount through September 10th – grab your discounted tickets while you can!  Your ticket covers all the action from Wednesday\, October 8th to Sunday\, October 12th (clinics not included)\, and yes\, that covers camping at LOTA! \n\n\nAnd yep\, you read that right – this year marks 25 YEARS of your favorite climbing festival! So of course\, we’re cooking up some extra special festivities this year. \n\n\nLike always\, we’ve got a stacked lineup of pros to help us celebrate: @sebbouin\, @kailightner\, @annahazelnutt\, and @emilyaharrington will all be joining the party this year! \n\n\nCheck out our clinics with the pros and learn from the world’s best. Secure your spot asap – they’ll go fast!\n\n\n We’re psyched to reveal this year’s stellar logo\, designed by the talented @jeremy.richthofen. He’s outdone himself this year!\n\n\n New this year\, we’ll have plenty of merch to commemorate the event\, and of course all proceeds go toward helping protect climbing in the Red River Gorge\, Kentucky.\n\n\nRocktoberfest is our largest fundraiser of the year. With the money raised from this event\, we’re able to maintain our property\, pay our staff\, and save up for the next land acquisition that we set our sights on.\n\n\n Last but not least\, we’re bringing back our exclusive Rocktoberfest member discount – RRGCC members\, check your inbox (and spam folder ) for your discount code!\n\n\nThis year’s going to be big. Don’t miss out!\n\n\nWe can’t wait to see you there!
URL:https://explorestanton.com/event/rocktoberfest-2025-5/
ATTACH;FMTTYPE=image/jpeg:https://explorestanton.com/wp-content/uploads/2025/09/2025-Rocktoberfest-2-scaled.jpg
END:VEVENT
BEGIN:VEVENT
DTSTART;VALUE=DATE:20251011
DTEND;VALUE=DATE:20251012
DTSTAMP:20260422T064708
CREATED:20250930T142544Z
LAST-MODIFIED:20250930T142544Z
UID:10000404-1760140800-1760227199@explorestanton.com
SUMMARY:Rocktoberfest 2025
DESCRIPTION:It’s that time of year again… ROCKTOBERFEST SEASON!! \n\n\n We are so psyched to announce that Rocktoberfest 2025 registration is officially LIVE!\n\n\n https://rrgcc.org/rocktoberfest/ \n\n\nSnag our early bird discount through September 10th – grab your discounted tickets while you can!  Your ticket covers all the action from Wednesday\, October 8th to Sunday\, October 12th (clinics not included)\, and yes\, that covers camping at LOTA! \n\n\nAnd yep\, you read that right – this year marks 25 YEARS of your favorite climbing festival! So of course\, we’re cooking up some extra special festivities this year. \n\n\nLike always\, we’ve got a stacked lineup of pros to help us celebrate: @sebbouin\, @kailightner\, @annahazelnutt\, and @emilyaharrington will all be joining the party this year! \n\n\nCheck out our clinics with the pros and learn from the world’s best. Secure your spot asap – they’ll go fast!\n\n\n We’re psyched to reveal this year’s stellar logo\, designed by the talented @jeremy.richthofen. He’s outdone himself this year!\n\n\n New this year\, we’ll have plenty of merch to commemorate the event\, and of course all proceeds go toward helping protect climbing in the Red River Gorge\, Kentucky.\n\n\nRocktoberfest is our largest fundraiser of the year. With the money raised from this event\, we’re able to maintain our property\, pay our staff\, and save up for the next land acquisition that we set our sights on.\n\n\n Last but not least\, we’re bringing back our exclusive Rocktoberfest member discount – RRGCC members\, check your inbox (and spam folder ) for your discount code!\n\n\nThis year’s going to be big. Don’t miss out!\n\n\nWe can’t wait to see you there!
URL:https://explorestanton.com/event/rocktoberfest-2025-4/
ATTACH;FMTTYPE=image/jpeg:https://explorestanton.com/wp-content/uploads/2025/09/2025-Rocktoberfest-2-scaled.jpg
END:VEVENT
BEGIN:VEVENT
DTSTART;VALUE=DATE:20251010
DTEND;VALUE=DATE:20251011
DTSTAMP:20260422T064708
CREATED:20250930T142457Z
LAST-MODIFIED:20250930T142457Z
UID:10000403-1760054400-1760140799@explorestanton.com
SUMMARY:Rocktoberfest 2025
DESCRIPTION:It’s that time of year again… ROCKTOBERFEST SEASON!! \n\n\n We are so psyched to announce that Rocktoberfest 2025 registration is officially LIVE!\n\n\n https://rrgcc.org/rocktoberfest/ \n\n\nSnag our early bird discount through September 10th – grab your discounted tickets while you can!  Your ticket covers all the action from Wednesday\, October 8th to Sunday\, October 12th (clinics not included)\, and yes\, that covers camping at LOTA! \n\n\nAnd yep\, you read that right – this year marks 25 YEARS of your favorite climbing festival! So of course\, we’re cooking up some extra special festivities this year. \n\n\nLike always\, we’ve got a stacked lineup of pros to help us celebrate: @sebbouin\, @kailightner\, @annahazelnutt\, and @emilyaharrington will all be joining the party this year! \n\n\nCheck out our clinics with the pros and learn from the world’s best. Secure your spot asap – they’ll go fast!\n\n\n We’re psyched to reveal this year’s stellar logo\, designed by the talented @jeremy.richthofen. He’s outdone himself this year!\n\n\n New this year\, we’ll have plenty of merch to commemorate the event\, and of course all proceeds go toward helping protect climbing in the Red River Gorge\, Kentucky.\n\n\nRocktoberfest is our largest fundraiser of the year. With the money raised from this event\, we’re able to maintain our property\, pay our staff\, and save up for the next land acquisition that we set our sights on.\n\n\n Last but not least\, we’re bringing back our exclusive Rocktoberfest member discount – RRGCC members\, check your inbox (and spam folder ) for your discount code!\n\n\nThis year’s going to be big. Don’t miss out!\n\n\nWe can’t wait to see you there!
URL:https://explorestanton.com/event/rocktoberfest-2025-3/
ATTACH;FMTTYPE=image/jpeg:https://explorestanton.com/wp-content/uploads/2025/09/2025-Rocktoberfest-2-scaled.jpg
END:VEVENT
BEGIN:VEVENT
DTSTART;VALUE=DATE:20251009
DTEND;VALUE=DATE:20251010
DTSTAMP:20260422T064708
CREATED:20250930T142345Z
LAST-MODIFIED:20250930T142345Z
UID:10000402-1759968000-1760054399@explorestanton.com
SUMMARY:Rocktoberfest 2025
DESCRIPTION:It’s that time of year again… ROCKTOBERFEST SEASON!! \n\n\n We are so psyched to announce that Rocktoberfest 2025 registration is officially LIVE!\n\n\n https://rrgcc.org/rocktoberfest/ \n\n\nSnag our early bird discount through September 10th – grab your discounted tickets while you can!  Your ticket covers all the action from Wednesday\, October 8th to Sunday\, October 12th (clinics not included)\, and yes\, that covers camping at LOTA! \n\n\nAnd yep\, you read that right – this year marks 25 YEARS of your favorite climbing festival! So of course\, we’re cooking up some extra special festivities this year. \n\n\nLike always\, we’ve got a stacked lineup of pros to help us celebrate: @sebbouin\, @kailightner\, @annahazelnutt\, and @emilyaharrington will all be joining the party this year! \n\n\nCheck out our clinics with the pros and learn from the world’s best. Secure your spot asap – they’ll go fast!\n\n\n We’re psyched to reveal this year’s stellar logo\, designed by the talented @jeremy.richthofen. He’s outdone himself this year!\n\n\n New this year\, we’ll have plenty of merch to commemorate the event\, and of course all proceeds go toward helping protect climbing in the Red River Gorge\, Kentucky.\n\n\nRocktoberfest is our largest fundraiser of the year. With the money raised from this event\, we’re able to maintain our property\, pay our staff\, and save up for the next land acquisition that we set our sights on.\n\n\n Last but not least\, we’re bringing back our exclusive Rocktoberfest member discount – RRGCC members\, check your inbox (and spam folder ) for your discount code!\n\n\nThis year’s going to be big. Don’t miss out!\n\n\nWe can’t wait to see you there!
URL:https://explorestanton.com/event/rocktoberfest-2025-2/
ATTACH;FMTTYPE=image/jpeg:https://explorestanton.com/wp-content/uploads/2025/09/2025-Rocktoberfest-2-scaled.jpg
END:VEVENT
BEGIN:VEVENT
DTSTART;VALUE=DATE:20251008
DTEND;VALUE=DATE:20251009
DTSTAMP:20260422T064708
CREATED:20250930T141808Z
LAST-MODIFIED:20250930T142225Z
UID:10000401-1759881600-1759967999@explorestanton.com
SUMMARY:Rocktoberfest 2025
DESCRIPTION:It’s that time of year again… ROCKTOBERFEST SEASON!! \n\n\n We are so psyched to announce that Rocktoberfest 2025 registration is officially LIVE!\n\n\n https://rrgcc.org/rocktoberfest/ \n\n\nSnag our early bird discount through September 10th – grab your discounted tickets while you can!  Your ticket covers all the action from Wednesday\, October 8th to Sunday\, October 12th (clinics not included)\, and yes\, that covers camping at LOTA! \n\n\nAnd yep\, you read that right – this year marks 25 YEARS of your favorite climbing festival! So of course\, we’re cooking up some extra special festivities this year. \n\n\nLike always\, we’ve got a stacked lineup of pros to help us celebrate: @sebbouin\, @kailightner\, @annahazelnutt\, and @emilyaharrington will all be joining the party this year! \n\n\nCheck out our clinics with the pros and learn from the world’s best. Secure your spot asap – they’ll go fast!\n\n\n We’re psyched to reveal this year’s stellar logo\, designed by the talented @jeremy.richthofen. He’s outdone himself this year!\n\n\n New this year\, we’ll have plenty of merch to commemorate the event\, and of course all proceeds go toward helping protect climbing in the Red River Gorge\, Kentucky.\n\n\nRocktoberfest is our largest fundraiser of the year. With the money raised from this event\, we’re able to maintain our property\, pay our staff\, and save up for the next land acquisition that we set our sights on.\n\n\n Last but not least\, we’re bringing back our exclusive Rocktoberfest member discount – RRGCC members\, check your inbox (and spam folder ) for your discount code!\n\n\nThis year’s going to be big. Don’t miss out!\n\n\nWe can’t wait to see you there!
URL:https://explorestanton.com/event/rocktoberfest-2025/
ATTACH;FMTTYPE=image/jpeg:https://explorestanton.com/wp-content/uploads/2025/09/2025-Rocktoberfest-2-scaled.jpg
END:VEVENT
END:VCALENDAR