BEGIN:VCALENDAR
VERSION:2.0
PRODID:-//Stanton Tourism - ECPv6.15.13.1//NONSGML v1.0//EN
CALSCALE:GREGORIAN
METHOD:PUBLISH
X-ORIGINAL-URL:https://explorestanton.com
X-WR-CALDESC:Events for Stanton Tourism
REFRESH-INTERVAL;VALUE=DURATION:PT1H
X-Robots-Tag:noindex
X-PUBLISHED-TTL:PT1H
BEGIN:VTIMEZONE
TZID:America/Kentucky/Louisville
BEGIN:DAYLIGHT
TZOFFSETFROM:-0500
TZOFFSETTO:-0400
TZNAME:EDT
DTSTART:20240310T070000
END:DAYLIGHT
BEGIN:STANDARD
TZOFFSETFROM:-0400
TZOFFSETTO:-0500
TZNAME:EST
DTSTART:20241103T060000
END:STANDARD
BEGIN:DAYLIGHT
TZOFFSETFROM:-0500
TZOFFSETTO:-0400
TZNAME:EDT
DTSTART:20250309T070000
END:DAYLIGHT
BEGIN:STANDARD
TZOFFSETFROM:-0400
TZOFFSETTO:-0500
TZNAME:EST
DTSTART:20251102T060000
END:STANDARD
BEGIN:DAYLIGHT
TZOFFSETFROM:-0500
TZOFFSETTO:-0400
TZNAME:EDT
DTSTART:20260308T070000
END:DAYLIGHT
BEGIN:STANDARD
TZOFFSETFROM:-0400
TZOFFSETTO:-0500
TZNAME:EST
DTSTART:20261101T060000
END:STANDARD
END:VTIMEZONE
BEGIN:VEVENT
DTSTART;TZID=America/Kentucky/Louisville:20251122T100000
DTEND;TZID=America/Kentucky/Louisville:20251122T160000
DTSTAMP:20260422T100922
CREATED:20251119T220656Z
LAST-MODIFIED:20251119T220656Z
UID:10001201-1763805600-1763827200@explorestanton.com
SUMMARY:Christmas Open House
DESCRIPTION:Step into the Magic of the Season! Refreshments and Door Prizes!
URL:https://explorestanton.com/event/christmas-open-house/
LOCATION:Sticks\, Stones and Stiches\, 91 S. Main St.\, Stanton\, KY\, 40380\, United States
ATTACH;FMTTYPE=image/jpeg:https://explorestanton.com/wp-content/uploads/2025/11/Sticks-Open-House-2025-scaled.jpg
END:VEVENT
END:VCALENDAR